BEGIN:VCALENDAR
VERSION:2.0
PRODID:-//CAREducation Trust - ECPv5.3.2.1//NONSGML v1.0//EN
CALSCALE:GREGORIAN
METHOD:PUBLISH
X-WR-CALNAME:CAREducation Trust
X-ORIGINAL-URL:https://www.careducation.org
X-WR-CALDESC:Events for CAREducation Trust
BEGIN:VTIMEZONE
TZID:UTC
BEGIN:STANDARD
TZOFFSETFROM:+0000
TZOFFSETTO:+0000
TZNAME:UTC
DTSTART:20180101T000000
END:STANDARD
END:VTIMEZONE
BEGIN:VEVENT
DTSTART;VALUE=DATE:20180606
DTEND;VALUE=DATE:20180607
DTSTAMP:20260422T205334
CREATED:20180525T200414Z
LAST-MODIFIED:20180525T200539Z
UID:6987-1528243200-1528329599@www.careducation.org
SUMMARY:CARE Golf Invitational 2018
DESCRIPTION:Come join us\, be a part of something bigger. Here at Caregolf we believe in having amazing golf days and raising money for the betterment of needy children. Together\, we can make a difference with your help. Enjoy a great day of golf on the immaculate fairways\, greens and the tremendous hospitality Hartsbourne Golf Club has to offer. \nTo make the most of your day with us our Care Invitational package includes: \n\nFull English Breakfast\nFree drinks buggies on the course\nComplimentary Drinks throughout the evening until 9:00pm (soft drinks\, Beers and Wines only)\nScrumptious three-course meal\n\n“It is my pleasure to invite you at Hartsbourne Country Club\, one of the most prestigious private members club in North London. Leave the world of work for a day\, enjoy your time with us and make a positive contribution for the betterment of our needy children.” – Vijay Thakkar\, Captain 2018-19
URL:https://www.careducation.org/event/care-golf-invitational-2018/
LOCATION:Hartsbourne Golf Club\, Hartsbourne Avenue\, Bushey Heath\, WD23 1JW\, United Kingdom
ATTACH;FMTTYPE=image/jpeg:https://www.careducation.org/wp-content/uploads/2018/05/CARE-Invitational-18-1-e1527278639543.jpg
END:VEVENT
END:VCALENDAR