BEGIN:VCALENDAR
VERSION:2.0
PRODID:-//CAREducation Trust - ECPv5.3.2.1//NONSGML v1.0//EN
CALSCALE:GREGORIAN
METHOD:PUBLISH
X-WR-CALNAME:CAREducation Trust
X-ORIGINAL-URL:https://www.careducation.org
X-WR-CALDESC:Events for CAREducation Trust
BEGIN:VTIMEZONE
TZID:UTC
BEGIN:STANDARD
TZOFFSETFROM:+0000
TZOFFSETTO:+0000
TZNAME:UTC
DTSTART:20180101T000000
END:STANDARD
END:VTIMEZONE
BEGIN:VEVENT
DTSTART;TZID=UTC:20180707T090000
DTEND;TZID=UTC:20180707T150000
DTSTAMP:20260422T205631
CREATED:20180525T201240Z
LAST-MODIFIED:20180602T133058Z
UID:7009-1530954000-1530975600@www.careducation.org
SUMMARY:Charity Book Collection Drive 2018
DESCRIPTION:EVEN WITHOUT WORDLEY WEALTH\, IT IS POSSIBLE FOR YOU TO BE GENEROUS! \nWe are pleased to inform you that we have launched our Charity Book Collection Drive. Our aim is to collect over 40\,000 books\, which are in English and up to A Levels. \nWe want your help to collect as many books as you can by contacting your local schools\, libraries and other institutions and explaining to them about our cause. \nFor families and individuals\, we have planned a book collection day on the 7th July 2018 from 9 to 3pm at Shishukunj Bhavan\, 25-27 High St. Edgware\, HA8 7EE \nGive a smile\, give a kind word\, give appreciation\, give honour\, credit and applause\, give time for a worthy cause\, give hope\, give happiness\, give encouragement.
URL:https://www.careducation.org/event/charity-book-collection-drive-2018/
LOCATION:Shishukunj London\, Shishukunj Bhavan\, 25 High St\, London\, HA8 7EE\, United Kingdom
ATTACH;FMTTYPE=image/jpeg:https://www.careducation.org/wp-content/uploads/2018/05/Book-Collection.jpg
END:VEVENT
END:VCALENDAR