BEGIN:VCALENDAR
VERSION:2.0
PRODID:-//CAREducation Trust - ECPv5.3.2.1//NONSGML v1.0//EN
CALSCALE:GREGORIAN
METHOD:PUBLISH
X-WR-CALNAME:CAREducation Trust
X-ORIGINAL-URL:https://www.careducation.org
X-WR-CALDESC:Events for CAREducation Trust
BEGIN:VTIMEZONE
TZID:UTC
BEGIN:STANDARD
TZOFFSETFROM:+0000
TZOFFSETTO:+0000
TZNAME:UTC
DTSTART:20180101T000000
END:STANDARD
END:VTIMEZONE
BEGIN:VEVENT
DTSTART;TZID=UTC:20180922T190000
DTEND;TZID=UTC:20180922T220000
DTSTAMP:20260422T180704
CREATED:20180819T190703Z
LAST-MODIFIED:20180819T190841Z
UID:7282-1537642800-1537653600@www.careducation.org
SUMMARY:Shakuntala - Dance Drama
DESCRIPTION:
URL:https://www.careducation.org/event/shakuntala-dance-drama/
LOCATION:Wyllotts Centre\, Darkes Lane\, Potters Bar\, EN6 2NH\, United Kingdom
ATTACH;FMTTYPE=image/jpeg:https://www.careducation.org/wp-content/uploads/2018/08/Shakuntala.jpg
END:VEVENT
END:VCALENDAR